BEGIN:VCALENDAR
VERSION:2.0
PRODID:-//BothMinds//BZA Events//EN
CALSCALE:GREGORIAN
METHOD:PUBLISH
BEGIN:VEVENT
UID:100-ff208c13-7695-49e6-878d-14366384f75a@SmokeRise.org
DTSTAMP:20260421T105352Z
SUMMARY:Electronics & Home Medical Equipment (HME) Recycling
DTSTART:20260425T130000Z
DTEND:20260425T160000Z
LOCATION:Tucker Church Street Green Space | 4316 Church St\, Tucker\, GA 30084
DESCRIPTION:Celebrate Earth Day by giving your old gear a second life at our Electronics &amp\; HME Recycling Day! Join the City of Tucker and FODAC on Saturday\, April 25 from 9 a.m. to noon at Church Street Greenspace. We are accepting donations of gently used Home Medical Equipment (HME) along with both working and non-working electronics to help support our community and the environment.What we are accepting: Gently used Home Medical Equipment (HME)Electronics (computers\, laptops\, and game consoles)Televisions (standard flat screen units)We are unable to accept CRT monitors\, Tube televisions\, Console TVs
END:VEVENT
END:VCALENDAR
